BEGIN:VCALENDAR
VERSION:2.0
PRODID:-//Plademunt - El Restaurante Imaginario - ECPv6.9.0//NONSGML v1.0//EN
CALSCALE:GREGORIAN
METHOD:PUBLISH
X-ORIGINAL-URL:https://dev.plademunt.com
X-WR-CALDESC:Eventos para Plademunt - El Restaurante Imaginario
REFRESH-INTERVAL;VALUE=DURATION:PT1H
X-Robots-Tag:noindex
X-PUBLISHED-TTL:PT1H
BEGIN:VTIMEZONE
TZID:Europe/Madrid
BEGIN:DAYLIGHT
TZOFFSETFROM:+0100
TZOFFSETTO:+0200
TZNAME:CEST
DTSTART:20160327T010000
END:DAYLIGHT
BEGIN:STANDARD
TZOFFSETFROM:+0200
TZOFFSETTO:+0100
TZNAME:CET
DTSTART:20161030T010000
END:STANDARD
END:VTIMEZONE
BEGIN:VEVENT
DTSTART;TZID=Europe/Madrid:20161204T110000
DTEND;TZID=Europe/Madrid:20161204T130000
DTSTAMP:20260421T183235
CREATED:20161114T195912Z
LAST-MODIFIED:20161114T195912Z
UID:4786-1480849200-1480856400@dev.plademunt.com
SUMMARY:DULCE NAVIDAD TALLER INFANTIL
DESCRIPTION:El domingo 4 de Diciembre tenemos Súper Taller dulce con Légolas Colectivo Escénico  y el equipo de Plademunt\, el Restaurante Imaginario. \nUn curso de cocina dulce navideña amenizada por Légolas. \nEmpezamos a las 11:00 h de la mañana hasta las 13:00\, cuando serviremos un picnic para nuestros pequeños chef´s
URL:https://dev.plademunt.com/agenda/dulce-navidad-taller-infantil/
CATEGORIES:cursos
ATTACH;FMTTYPE=image/jpeg:https://dev.plademunt.com/wp-content/uploads/2015/11/gingerbread-men.jpg
END:VEVENT
BEGIN:VEVENT
DTSTART;TZID=Europe/Madrid:20161204T110000
DTEND;TZID=Europe/Madrid:20161204T130000
DTSTAMP:20260421T183235
CREATED:20161114T195912Z
LAST-MODIFIED:20161114T195912Z
UID:8419-1480849200-1480856400@dev.plademunt.com
SUMMARY:DULCE NAVIDAD TALLER INFANTIL
DESCRIPTION:El domingo 4 de Diciembre tenemos Súper Taller dulce con Légolas Colectivo Escénico  y el equipo de Plademunt\, el Restaurante Imaginario. \nUn curso de cocina dulce navideña amenizada por Légolas. \nEmpezamos a las 11:00 h de la mañana hasta las 13:00\, cuando serviremos un picnic para nuestros pequeños chef´s
URL:https://dev.plademunt.com/agenda/dulce-navidad-taller-infantil-2/
CATEGORIES:cursos
ATTACH;FMTTYPE=image/jpeg:https://dev.plademunt.com/wp-content/uploads/2015/11/gingerbread-men.jpg
END:VEVENT
BEGIN:VEVENT
DTSTART;TZID=Europe/Madrid:20161204T110000
DTEND;TZID=Europe/Madrid:20161204T130000
DTSTAMP:20260421T183235
CREATED:20161114T195912Z
LAST-MODIFIED:20161114T195912Z
UID:8631-1480849200-1480856400@dev.plademunt.com
SUMMARY:DULCE NAVIDAD TALLER INFANTIL
DESCRIPTION:El domingo 4 de Diciembre tenemos Súper Taller dulce con Légolas Colectivo Escénico  y el equipo de Plademunt\, el Restaurante Imaginario. \nUn curso de cocina dulce navideña amenizada por Légolas. \nEmpezamos a las 11:00 h de la mañana hasta las 13:00\, cuando serviremos un picnic para nuestros pequeños chef´s
URL:https://dev.plademunt.com/agenda/dulce-navidad-taller-infantil-3/
CATEGORIES:cursos
ATTACH;FMTTYPE=image/jpeg:https://dev.plademunt.com/wp-content/uploads/2015/11/gingerbread-men.jpg
END:VEVENT
BEGIN:VEVENT
DTSTART;TZID=Europe/Madrid:20161201T210000
DTEND;TZID=Europe/Madrid:20161201T230000
DTSTAMP:20260421T183235
CREATED:20161114T193722Z
LAST-MODIFIED:20161114T193722Z
UID:4780-1480626000-1480633200@dev.plademunt.com
SUMMARY:PRESENTACIÓN\, CATA Y DEGUSTACIÓN DE CASIMIRO MAHOU
DESCRIPTION:CATA DE CERVEZAS CASIMIRO MAHOU Y MENÚ GASTRONÓMICO MADRILEÑO\nJUEVES 24 DE NOVIEMBRE A LAS 21.00 H tienes un planazo único en Alcalá de Henares. Casimiro Mahou presentará sus preciadas cervezas artesanas con un menú degustación y su maridaje. Una oportunidad estupenda para conocer estas cervezas gourmet.\nCASIMIRO TRIGO.\nFritos de Fonda con salsa de verduras asadas \nCASIMIRO LAGER.\nVentresca de atún San Isidro \nCASIMIRO EXTRA\nGuisadillo madrileño de presa ibérica \nCASIMIRO ALE\nTosta de rabo de toro estofado\n20.00 euros
URL:https://dev.plademunt.com/agenda/presentacion-cata-y-degustacion-de-casimiro-mahou/
CATEGORIES:catas
ATTACH;FMTTYPE=image/jpeg:https://dev.plademunt.com/wp-content/uploads/2016/11/casimiro-mahou.jpg
END:VEVENT
BEGIN:VEVENT
DTSTART;TZID=Europe/Madrid:20161201T210000
DTEND;TZID=Europe/Madrid:20161201T230000
DTSTAMP:20260421T183235
CREATED:20161114T193722Z
LAST-MODIFIED:20161114T193722Z
UID:8416-1480626000-1480633200@dev.plademunt.com
SUMMARY:PRESENTACIÓN\, CATA Y DEGUSTACIÓN DE CASIMIRO MAHOU
DESCRIPTION:CATA DE CERVEZAS CASIMIRO MAHOU Y MENÚ GASTRONÓMICO MADRILEÑO\nJUEVES 24 DE NOVIEMBRE A LAS 21.00 H tienes un planazo único en Alcalá de Henares. Casimiro Mahou presentará sus preciadas cervezas artesanas con un menú degustación y su maridaje. Una oportunidad estupenda para conocer estas cervezas gourmet.\nCASIMIRO TRIGO.\nFritos de Fonda con salsa de verduras asadas \nCASIMIRO LAGER.\nVentresca de atún San Isidro \nCASIMIRO EXTRA\nGuisadillo madrileño de presa ibérica \nCASIMIRO ALE\nTosta de rabo de toro estofado\n20.00 euros
URL:https://dev.plademunt.com/agenda/presentacion-cata-y-degustacion-de-casimiro-mahou-2/
CATEGORIES:catas
ATTACH;FMTTYPE=image/jpeg:https://dev.plademunt.com/wp-content/uploads/2016/11/casimiro-mahou.jpg
END:VEVENT
BEGIN:VEVENT
DTSTART;TZID=Europe/Madrid:20161201T210000
DTEND;TZID=Europe/Madrid:20161201T230000
DTSTAMP:20260421T183235
CREATED:20161114T193722Z
LAST-MODIFIED:20161114T193722Z
UID:8628-1480626000-1480633200@dev.plademunt.com
SUMMARY:PRESENTACIÓN\, CATA Y DEGUSTACIÓN DE CASIMIRO MAHOU
DESCRIPTION:CATA DE CERVEZAS CASIMIRO MAHOU Y MENÚ GASTRONÓMICO MADRILEÑO\nJUEVES 24 DE NOVIEMBRE A LAS 21.00 H tienes un planazo único en Alcalá de Henares. Casimiro Mahou presentará sus preciadas cervezas artesanas con un menú degustación y su maridaje. Una oportunidad estupenda para conocer estas cervezas gourmet.\nCASIMIRO TRIGO.\nFritos de Fonda con salsa de verduras asadas \nCASIMIRO LAGER.\nVentresca de atún San Isidro \nCASIMIRO EXTRA\nGuisadillo madrileño de presa ibérica \nCASIMIRO ALE\nTosta de rabo de toro estofado\n20.00 euros
URL:https://dev.plademunt.com/agenda/presentacion-cata-y-degustacion-de-casimiro-mahou-3/
CATEGORIES:catas
ATTACH;FMTTYPE=image/jpeg:https://dev.plademunt.com/wp-content/uploads/2016/11/casimiro-mahou.jpg
END:VEVENT
BEGIN:VEVENT
DTSTART;TZID=Europe/Madrid:20161127T110000
DTEND;TZID=Europe/Madrid:20161127T130000
DTSTAMP:20260421T183235
CREATED:20161120T185611Z
LAST-MODIFIED:20161120T185611Z
UID:4822-1480244400-1480251600@dev.plademunt.com
SUMMARY:thanksgiving CURSO INFANTIL DE COCINA
DESCRIPTION:El domingo 27 a las 11:00h de la mañana nos pondremos a preparar un suculento banquete de cocina americana para celebrar el Thanksgiving. Taller de cocina en inglés de la mano de la academia Learn and Play\, con Silvia Meruelo y el equipo de Plademunt\, el Restaurante Imaginario. \nEste será el menú que prepararemos y que luego podremos degustar. El precio del curso es 20.00€. Empezamos a las 11.00 y terminamos a las 13.00h \nTHANKSGIVING\n \nJudías verdes\nMaíz asado\nPuré de patata \nPuré de calabaza\nCrema de calabaza asada\n………………\nPavo asado con salsa Gravy\nY salsa de arándanos\n…………………\nTarta de manzana\nTarta de calabaza
URL:https://dev.plademunt.com/agenda/thanksgiving-curso-infantil-de-cocina/
CATEGORIES:cursos
ATTACH;FMTTYPE=image/jpeg:https://dev.plademunt.com/wp-content/uploads/2016/11/THANKSGIVINGPLADEMUNT2016.jpeg
END:VEVENT
BEGIN:VEVENT
DTSTART;TZID=Europe/Madrid:20161127T110000
DTEND;TZID=Europe/Madrid:20161127T130000
DTSTAMP:20260421T183235
CREATED:20161120T185611Z
LAST-MODIFIED:20161120T185611Z
UID:8421-1480244400-1480251600@dev.plademunt.com
SUMMARY:thanksgiving CURSO INFANTIL DE COCINA
DESCRIPTION:El domingo 27 a las 11:00h de la mañana nos pondremos a preparar un suculento banquete de cocina americana para celebrar el Thanksgiving. Taller de cocina en inglés de la mano de la academia Learn and Play\, con Silvia Meruelo y el equipo de Plademunt\, el Restaurante Imaginario. \nEste será el menú que prepararemos y que luego podremos degustar. El precio del curso es 20.00€. Empezamos a las 11.00 y terminamos a las 13.00h \nTHANKSGIVING\n \nJudías verdes\nMaíz asado\nPuré de patata \nPuré de calabaza\nCrema de calabaza asada\n………………\nPavo asado con salsa Gravy\nY salsa de arándanos\n…………………\nTarta de manzana\nTarta de calabaza
URL:https://dev.plademunt.com/agenda/thanksgiving-curso-infantil-de-cocina-2/
CATEGORIES:cursos
ATTACH;FMTTYPE=image/jpeg:https://dev.plademunt.com/wp-content/uploads/2016/11/THANKSGIVINGPLADEMUNT2016.jpeg
END:VEVENT
BEGIN:VEVENT
DTSTART;TZID=Europe/Madrid:20161127T110000
DTEND;TZID=Europe/Madrid:20161127T130000
DTSTAMP:20260421T183235
CREATED:20161120T185611Z
LAST-MODIFIED:20161120T185611Z
UID:8633-1480244400-1480251600@dev.plademunt.com
SUMMARY:thanksgiving CURSO INFANTIL DE COCINA
DESCRIPTION:El domingo 27 a las 11:00h de la mañana nos pondremos a preparar un suculento banquete de cocina americana para celebrar el Thanksgiving. Taller de cocina en inglés de la mano de la academia Learn and Play\, con Silvia Meruelo y el equipo de Plademunt\, el Restaurante Imaginario. \nEste será el menú que prepararemos y que luego podremos degustar. El precio del curso es 20.00€. Empezamos a las 11.00 y terminamos a las 13.00h \nTHANKSGIVING\n \nJudías verdes\nMaíz asado\nPuré de patata \nPuré de calabaza\nCrema de calabaza asada\n………………\nPavo asado con salsa Gravy\nY salsa de arándanos\n…………………\nTarta de manzana\nTarta de calabaza
URL:https://dev.plademunt.com/agenda/thanksgiving-curso-infantil-de-cocina-3/
CATEGORIES:cursos
ATTACH;FMTTYPE=image/jpeg:https://dev.plademunt.com/wp-content/uploads/2016/11/THANKSGIVINGPLADEMUNT2016.jpeg
END:VEVENT
BEGIN:VEVENT
DTSTART;TZID=Europe/Madrid:20161124T210000
DTEND;TZID=Europe/Madrid:20161124T220000
DTSTAMP:20260421T183235
CREATED:20161114T200518Z
LAST-MODIFIED:20161114T200518Z
UID:4791-1480021200-1480024800@dev.plademunt.com
SUMMARY:descorche de Tamaral Reserva
DESCRIPTION:El jueves 24 abriremos una botella magnum de un excelente Ribera del Duero\, el Tamaral reserva acompañado de una tapa exclusiva y diseñada especialmente para armonizar este gran vino.
URL:https://dev.plademunt.com/agenda/descorche-de-tamaral-reserva/
CATEGORIES:catas
ATTACH;FMTTYPE=image/png:https://dev.plademunt.com/wp-content/uploads/2016/11/DESCORCHE-TAMARAL.png
END:VEVENT
BEGIN:VEVENT
DTSTART;TZID=Europe/Madrid:20161124T210000
DTEND;TZID=Europe/Madrid:20161124T220000
DTSTAMP:20260421T183235
CREATED:20161114T200518Z
LAST-MODIFIED:20161114T200518Z
UID:8420-1480021200-1480024800@dev.plademunt.com
SUMMARY:descorche de Tamaral Reserva
DESCRIPTION:El jueves 24 abriremos una botella magnum de un excelente Ribera del Duero\, el Tamaral reserva acompañado de una tapa exclusiva y diseñada especialmente para armonizar este gran vino.
URL:https://dev.plademunt.com/agenda/descorche-de-tamaral-reserva-2/
CATEGORIES:catas
ATTACH;FMTTYPE=image/png:https://dev.plademunt.com/wp-content/uploads/2016/11/DESCORCHE-TAMARAL.png
END:VEVENT
BEGIN:VEVENT
DTSTART;TZID=Europe/Madrid:20161124T210000
DTEND;TZID=Europe/Madrid:20161124T220000
DTSTAMP:20260421T183235
CREATED:20161114T200518Z
LAST-MODIFIED:20161114T200518Z
UID:8632-1480021200-1480024800@dev.plademunt.com
SUMMARY:descorche de Tamaral Reserva
DESCRIPTION:El jueves 24 abriremos una botella magnum de un excelente Ribera del Duero\, el Tamaral reserva acompañado de una tapa exclusiva y diseñada especialmente para armonizar este gran vino.
URL:https://dev.plademunt.com/agenda/descorche-de-tamaral-reserva-3/
CATEGORIES:catas
ATTACH;FMTTYPE=image/png:https://dev.plademunt.com/wp-content/uploads/2016/11/DESCORCHE-TAMARAL.png
END:VEVENT
BEGIN:VEVENT
DTSTART;TZID=Europe/Madrid:20161117T210000
DTEND;TZID=Europe/Madrid:20161117T233000
DTSTAMP:20260421T183235
CREATED:20161114T171809Z
LAST-MODIFIED:20161114T171809Z
UID:4776-1479416400-1479425400@dev.plademunt.com
SUMMARY:curso de cocina COMO PREPARAR UN BANQUETE Y NO MORIR EN EL INTENTO
DESCRIPTION:El jueves 17 a las 21.00 te proponemos un plan muy cocinillas.\nDentro de nada estamos inmersos en la Navidades\, celebraciones\, invitados y nada mejor que un curso de cocina para refrescar ideas y sorprender a nuestros invitados. Y si lo hacemos fácil\, mucho mejor!\nDespués del curso haremos una degustación de todo lo cocinado. El precio del curso y cena son 25 euros.
URL:https://dev.plademunt.com/agenda/curso-de-cocina-como-preparar-un-banquete-y-no-morir-en-el-intento/
CATEGORIES:cursos
ATTACH;FMTTYPE=image/jpeg:https://dev.plademunt.com/wp-content/uploads/2015/03/langostino.jpg
END:VEVENT
BEGIN:VEVENT
DTSTART;TZID=Europe/Madrid:20161117T210000
DTEND;TZID=Europe/Madrid:20161117T233000
DTSTAMP:20260421T183235
CREATED:20161114T171809Z
LAST-MODIFIED:20161114T171809Z
UID:8415-1479416400-1479425400@dev.plademunt.com
SUMMARY:curso de cocina COMO PREPARAR UN BANQUETE Y NO MORIR EN EL INTENTO
DESCRIPTION:El jueves 17 a las 21.00 te proponemos un plan muy cocinillas.\nDentro de nada estamos inmersos en la Navidades\, celebraciones\, invitados y nada mejor que un curso de cocina para refrescar ideas y sorprender a nuestros invitados. Y si lo hacemos fácil\, mucho mejor!\nDespués del curso haremos una degustación de todo lo cocinado. El precio del curso y cena son 25 euros.
URL:https://dev.plademunt.com/agenda/curso-de-cocina-como-preparar-un-banquete-y-no-morir-en-el-intento-3/
CATEGORIES:cursos
ATTACH;FMTTYPE=image/jpeg:https://dev.plademunt.com/wp-content/uploads/2015/03/langostino.jpg
END:VEVENT
BEGIN:VEVENT
DTSTART;TZID=Europe/Madrid:20161117T210000
DTEND;TZID=Europe/Madrid:20161117T233000
DTSTAMP:20260421T183235
CREATED:20161114T171809Z
LAST-MODIFIED:20161114T171809Z
UID:8627-1479416400-1479425400@dev.plademunt.com
SUMMARY:curso de cocina COMO PREPARAR UN BANQUETE Y NO MORIR EN EL INTENTO
DESCRIPTION:El jueves 17 a las 21.00 te proponemos un plan muy cocinillas.\nDentro de nada estamos inmersos en la Navidades\, celebraciones\, invitados y nada mejor que un curso de cocina para refrescar ideas y sorprender a nuestros invitados. Y si lo hacemos fácil\, mucho mejor!\nDespués del curso haremos una degustación de todo lo cocinado. El precio del curso y cena son 25 euros.
URL:https://dev.plademunt.com/agenda/curso-de-cocina-como-preparar-un-banquete-y-no-morir-en-el-intento-4/
CATEGORIES:cursos
ATTACH;FMTTYPE=image/jpeg:https://dev.plademunt.com/wp-content/uploads/2015/03/langostino.jpg
END:VEVENT
END:VCALENDAR